BEGIN:VCALENDAR
VERSION:2.0
PRODID:-//Wellington Point Bowls Club - ECPv6.15.0//NONSGML v1.0//EN
CALSCALE:GREGORIAN
METHOD:PUBLISH
X-WR-CALNAME:Wellington Point Bowls Club
X-ORIGINAL-URL:https://wellingtonpointbowlingclub.com.au
X-WR-CALDESC:Events for Wellington Point Bowls Club
REFRESH-INTERVAL;VALUE=DURATION:PT1H
X-Robots-Tag:noindex
X-PUBLISHED-TTL:PT1H
BEGIN:VTIMEZONE
TZID:Australia/Sydney
BEGIN:STANDARD
TZOFFSETFROM:+1100
TZOFFSETTO:+1000
TZNAME:AEST
DTSTART:20250405T160000
END:STANDARD
BEGIN:DAYLIGHT
TZOFFSETFROM:+1000
TZOFFSETTO:+1100
TZNAME:AEDT
DTSTART:20251004T160000
END:DAYLIGHT
END:VTIMEZONE
BEGIN:VEVENT
DTSTART;VALUE=DATE:20250103
DTEND;VALUE=DATE:20250104
DTSTAMP:20260420T170558
CREATED:20250328T033410Z
LAST-MODIFIED:20250328T033637Z
UID:8545-1735862400-1735948799@wellingtonpointbowlingclub.com.au
SUMMARY:Monthly Open Triples
DESCRIPTION:
URL:https://wellingtonpointbowlingclub.com.au/event/monthly-open-triples/
CATEGORIES:what's on
END:VEVENT
BEGIN:VEVENT
DTSTART;TZID=Australia/Sydney:20250103T033000
DTEND;TZID=Australia/Sydney:20250103T163000
DTSTAMP:20260420T170558
CREATED:20250107T162638Z
LAST-MODIFIED:20250107T162638Z
UID:8135-1735875000-1735921800@wellingtonpointbowlingclub.com.au
SUMMARY:JUNIOR DEVELOPMENT SQUAD
DESCRIPTION:All school age children welcome
URL:https://wellingtonpointbowlingclub.com.au/event/junior-development-squad/2025-01-03/
CATEGORIES:what's on
END:VEVENT
END:VCALENDAR