BEGIN:VCALENDAR
VERSION:2.0
PRODID:-//Wellington Point Bowls Club - ECPv6.15.0//NONSGML v1.0//EN
CALSCALE:GREGORIAN
METHOD:PUBLISH
X-ORIGINAL-URL:https://wellingtonpointbowlingclub.com.au
X-WR-CALDESC:Events for Wellington Point Bowls Club
REFRESH-INTERVAL;VALUE=DURATION:PT1H
X-Robots-Tag:noindex
X-PUBLISHED-TTL:PT1H
BEGIN:VTIMEZONE
TZID:Australia/Sydney
BEGIN:STANDARD
TZOFFSETFROM:+1100
TZOFFSETTO:+1000
TZNAME:AEST
DTSTART:20250405T160000
END:STANDARD
BEGIN:DAYLIGHT
TZOFFSETFROM:+1000
TZOFFSETTO:+1100
TZNAME:AEDT
DTSTART:20251004T160000
END:DAYLIGHT
END:VTIMEZONE
BEGIN:VEVENT
DTSTART;VALUE=DATE:20250127
DTEND;VALUE=DATE:20250128
DTSTAMP:20260420T050214
CREATED:20250331T040041Z
LAST-MODIFIED:20250331T040041Z
UID:8727-1737936000-1738022399@wellingtonpointbowlingclub.com.au
SUMMARY:#Australia Day
DESCRIPTION:
URL:https://wellingtonpointbowlingclub.com.au/event/australia-day-2/
CATEGORIES:what's on
END:VEVENT
BEGIN:VEVENT
DTSTART;VALUE=DATE:20250201
DTEND;VALUE=DATE:20250202
DTSTAMP:20260420T050214
CREATED:20250328T040310Z
LAST-MODIFIED:20250331T003848Z
UID:8576-1738368000-1738454399@wellingtonpointbowlingclub.com.au
SUMMARY:Summer Shield
DESCRIPTION:Feb 1\, 8\, 15\, 22\nMar 1\, 8\, 15\nMar 22 – Play-off\nMar 23 – Final
URL:https://wellingtonpointbowlingclub.com.au/event/summer-shield-2/2025-02-01/
CATEGORIES:what's on
END:VEVENT
BEGIN:VEVENT
DTSTART;VALUE=DATE:20250201
DTEND;VALUE=DATE:20250202
DTSTAMP:20260420T050214
CREATED:20250328T040717Z
LAST-MODIFIED:20250331T004235Z
UID:8580-1738368000-1738454399@wellingtonpointbowlingclub.com.au
SUMMARY:GR8's
DESCRIPTION:Feb 1\, 8\, 15\, 22\nMar 1\, 8\nMar 22 – S/Finals\nMar 29 – Finals
URL:https://wellingtonpointbowlingclub.com.au/event/gr8s-2/2025-02-01/
CATEGORIES:what's on
END:VEVENT
BEGIN:VEVENT
DTSTART;TZID=Australia/Sydney:20250201T083000
DTEND;TZID=Australia/Sydney:20250201T203000
DTSTAMP:20260420T050214
CREATED:20250127T234036Z
LAST-MODIFIED:20250128T014853Z
UID:8210-1738398600-1738441800@wellingtonpointbowlingclub.com.au
SUMMARY:Bowls (C/Ship)
DESCRIPTION:
URL:https://wellingtonpointbowlingclub.com.au/event/bowls-c-ship/
CATEGORIES:what's on
END:VEVENT
BEGIN:VEVENT
DTSTART;TZID=Australia/Sydney:20250202T083000
DTEND;TZID=Australia/Sydney:20250202T203000
DTSTAMP:20260420T050214
CREATED:20250127T234337Z
LAST-MODIFIED:20250128T011753Z
UID:8213-1738485000-1738528200@wellingtonpointbowlingclub.com.au
SUMMARY:Bowls (C/Ship)
DESCRIPTION:
URL:https://wellingtonpointbowlingclub.com.au/event/bowls-c-ship-2/
CATEGORIES:what's on
END:VEVENT
BEGIN:VEVENT
DTSTART;TZID=Australia/Sydney:20250202T160000
DTEND;TZID=Australia/Sydney:20250202T170000
DTSTAMP:20260420T050214
CREATED:20250127T234917Z
LAST-MODIFIED:20250128T011329Z
UID:8216-1738512000-1738515600@wellingtonpointbowlingclub.com.au
SUMMARY:Fuel Frenzy Raffles
DESCRIPTION:
URL:https://wellingtonpointbowlingclub.com.au/event/fuel-frenzy-raffles/2025-02-02/
CATEGORIES:what's on
END:VEVENT
END:VCALENDAR