BEGIN:VCALENDAR
VERSION:2.0
PRODID:-//Wellington Point Bowls Club - ECPv6.15.0//NONSGML v1.0//EN
CALSCALE:GREGORIAN
METHOD:PUBLISH
X-ORIGINAL-URL:https://wellingtonpointbowlingclub.com.au
X-WR-CALDESC:Events for Wellington Point Bowls Club
REFRESH-INTERVAL;VALUE=DURATION:PT1H
X-Robots-Tag:noindex
X-PUBLISHED-TTL:PT1H
BEGIN:VTIMEZONE
TZID:Australia/Sydney
BEGIN:STANDARD
TZOFFSETFROM:+1100
TZOFFSETTO:+1000
TZNAME:AEST
DTSTART:20250405T160000
END:STANDARD
BEGIN:DAYLIGHT
TZOFFSETFROM:+1000
TZOFFSETTO:+1100
TZNAME:AEDT
DTSTART:20251004T160000
END:DAYLIGHT
END:VTIMEZONE
BEGIN:VEVENT
DTSTART;TZID=Australia/Sydney:20250203T190000
DTEND;TZID=Australia/Sydney:20250203T190000
DTSTAMP:20260420T021203
CREATED:20250128T005004Z
LAST-MODIFIED:20250128T012700Z
UID:8296-1738609200-1738609200@wellingtonpointbowlingclub.com.au
SUMMARY:Poker
DESCRIPTION:
URL:https://wellingtonpointbowlingclub.com.au/event/poker/2025-02-03/
CATEGORIES:what's on
END:VEVENT
BEGIN:VEVENT
DTSTART;VALUE=DATE:20250204
DTEND;VALUE=DATE:20250205
DTSTAMP:20260420T021203
CREATED:20250328T044223Z
LAST-MODIFIED:20250328T050507Z
UID:8596-1738627200-1738713599@wellingtonpointbowlingclub.com.au
SUMMARY:Ladies Champ. Pairs
DESCRIPTION:Feb 4 – Nom. Close\nFeb 11 – Start\nFeb 18\, Feb 25\nMar 4 – Final
URL:https://wellingtonpointbowlingclub.com.au/event/ladies-champ-pairs/2025-02-04/
CATEGORIES:what's on
END:VEVENT
BEGIN:VEVENT
DTSTART;TZID=Australia/Sydney:20250204T173000
DTEND;TZID=Australia/Sydney:20250204T203000
DTSTAMP:20260420T021203
CREATED:20250128T004648Z
LAST-MODIFIED:20250128T012645Z
UID:8288-1738690200-1738701000@wellingtonpointbowlingclub.com.au
SUMMARY:Badge Draw
DESCRIPTION:
URL:https://wellingtonpointbowlingclub.com.au/event/badge-draw-2/2025-02-04/
CATEGORIES:what's on
END:VEVENT
BEGIN:VEVENT
DTSTART;TZID=Australia/Sydney:20250204T174000
DTEND;TZID=Australia/Sydney:20250204T174000
DTSTAMP:20260420T021203
CREATED:20250128T004830Z
LAST-MODIFIED:20250128T012651Z
UID:8292-1738690800-1738690800@wellingtonpointbowlingclub.com.au
SUMMARY:Trivia
DESCRIPTION:
URL:https://wellingtonpointbowlingclub.com.au/event/trivia/2025-02-04/
CATEGORIES:what's on
END:VEVENT
BEGIN:VEVENT
DTSTART;TZID=Australia/Sydney:20250205T130000
DTEND;TZID=Australia/Sydney:20250205T170000
DTSTAMP:20260420T021203
CREATED:20250128T004017Z
LAST-MODIFIED:20250128T012543Z
UID:8275-1738760400-1738774800@wellingtonpointbowlingclub.com.au
SUMMARY:Bowls (Social)
DESCRIPTION:
URL:https://wellingtonpointbowlingclub.com.au/event/bowls-social-3/2025-02-05/
CATEGORIES:what's on
END:VEVENT
BEGIN:VEVENT
DTSTART;TZID=Australia/Sydney:20250205T174500
DTEND;TZID=Australia/Sydney:20250205T183000
DTSTAMP:20260420T021203
CREATED:20250128T004208Z
LAST-MODIFIED:20250128T012415Z
UID:8279-1738777500-1738780200@wellingtonpointbowlingclub.com.au
SUMMARY:Wacky Wed. Raffles
DESCRIPTION:
URL:https://wellingtonpointbowlingclub.com.au/event/wacky-wed-raffles/2025-02-05/
CATEGORIES:what's on
END:VEVENT
BEGIN:VEVENT
DTSTART;TZID=Australia/Sydney:20250205T175000
DTEND;TZID=Australia/Sydney:20250205T203000
DTSTAMP:20260420T021203
CREATED:20250128T004352Z
LAST-MODIFIED:20250128T012424Z
UID:8284-1738777800-1738787400@wellingtonpointbowlingclub.com.au
SUMMARY:Spin & Win (PP)
DESCRIPTION:
URL:https://wellingtonpointbowlingclub.com.au/event/spin-win-pp/2025-02-05/
CATEGORIES:what's on
END:VEVENT
BEGIN:VEVENT
DTSTART;VALUE=DATE:20250206
DTEND;VALUE=DATE:20250207
DTSTAMP:20260420T021203
CREATED:20250331T005830Z
LAST-MODIFIED:20250331T005830Z
UID:8641-1738800000-1738886399@wellingtonpointbowlingclub.com.au
SUMMARY:Men's Champ. "B" Singles
DESCRIPTION:Feb 6 – Nom. Open\nMar 6 – Nom. Close\nApr 6\, May 4\, May 24\, May 31
URL:https://wellingtonpointbowlingclub.com.au/event/mens-champ-b-singles/2025-02-06/
CATEGORIES:what's on
END:VEVENT
BEGIN:VEVENT
DTSTART;TZID=Australia/Sydney:20250206T094500
DTEND;TZID=Australia/Sydney:20250206T203000
DTSTAMP:20260420T021203
CREATED:20250128T002455Z
LAST-MODIFIED:20250128T002455Z
UID:8245-1738835100-1738873800@wellingtonpointbowlingclub.com.au
SUMMARY:Bowls (Social)
DESCRIPTION:
URL:https://wellingtonpointbowlingclub.com.au/event/bowls-social-2/2025-02-06/
CATEGORIES:what's on
END:VEVENT
BEGIN:VEVENT
DTSTART;TZID=Australia/Sydney:20250206T100000
DTEND;TZID=Australia/Sydney:20250206T203000
DTSTAMP:20260420T021203
CREATED:20250128T002726Z
LAST-MODIFIED:20250128T012225Z
UID:8249-1738836000-1738873800@wellingtonpointbowlingclub.com.au
SUMMARY:Bingo
DESCRIPTION:
URL:https://wellingtonpointbowlingclub.com.au/event/bingo/
CATEGORIES:what's on
END:VEVENT
BEGIN:VEVENT
DTSTART;TZID=Australia/Sydney:20250206T173000
DTEND;TZID=Australia/Sydney:20250206T203000
DTSTAMP:20260420T021203
CREATED:20250128T002926Z
LAST-MODIFIED:20250128T012222Z
UID:8250-1738863000-1738873800@wellingtonpointbowlingclub.com.au
SUMMARY:Badge Draw
DESCRIPTION:
URL:https://wellingtonpointbowlingclub.com.au/event/badge-draw/2025-02-06/
CATEGORIES:what's on
END:VEVENT
BEGIN:VEVENT
DTSTART;TZID=Australia/Sydney:20250206T173500
DTEND;TZID=Australia/Sydney:20250206T203000
DTSTAMP:20260420T021203
CREATED:20250128T003349Z
LAST-MODIFIED:20250128T012218Z
UID:8258-1738863300-1738873800@wellingtonpointbowlingclub.com.au
SUMMARY:Joker Jackpot (PP)
DESCRIPTION:
URL:https://wellingtonpointbowlingclub.com.au/event/joker-jackpot-pp/2025-02-06/
CATEGORIES:what's on
END:VEVENT
BEGIN:VEVENT
DTSTART;TZID=Australia/Sydney:20250206T174000
DTEND;TZID=Australia/Sydney:20250206T203000
DTSTAMP:20260420T021203
CREATED:20250128T003722Z
LAST-MODIFIED:20250128T012214Z
UID:8268-1738863600-1738873800@wellingtonpointbowlingclub.com.au
SUMMARY:Cash Housie Bingo
DESCRIPTION:
URL:https://wellingtonpointbowlingclub.com.au/event/cash-housie-bingo/2025-02-06/
CATEGORIES:what's on
END:VEVENT
BEGIN:VEVENT
DTSTART;VALUE=DATE:20250207
DTEND;VALUE=DATE:20250208
DTSTAMP:20260420T021203
CREATED:20250328T033709Z
LAST-MODIFIED:20250328T033709Z
UID:8546-1738886400-1738972799@wellingtonpointbowlingclub.com.au
SUMMARY:Monthly Open Triples
DESCRIPTION:
URL:https://wellingtonpointbowlingclub.com.au/event/monthly-open-triples-2/
CATEGORIES:what's on
END:VEVENT
BEGIN:VEVENT
DTSTART;TZID=Australia/Sydney:20250207T174500
DTEND;TZID=Australia/Sydney:20250207T183000
DTSTAMP:20260420T021203
CREATED:20250128T000633Z
LAST-MODIFIED:20250128T011909Z
UID:8232-1738950300-1738953000@wellingtonpointbowlingclub.com.au
SUMMARY:Lewy’s Raffle
DESCRIPTION:
URL:https://wellingtonpointbowlingclub.com.au/event/lewys-raffle/2025-02-07/
CATEGORIES:what's on
END:VEVENT
BEGIN:VEVENT
DTSTART;TZID=Australia/Sydney:20250207T180000
DTEND;TZID=Australia/Sydney:20250207T203000
DTSTAMP:20260420T021203
CREATED:20250128T000154Z
LAST-MODIFIED:20250128T000154Z
UID:8228-1738951200-1738960200@wellingtonpointbowlingclub.com.au
SUMMARY:Bowls (Social)
DESCRIPTION:
URL:https://wellingtonpointbowlingclub.com.au/event/bowls-social/2025-02-07/
CATEGORIES:what's on
END:VEVENT
BEGIN:VEVENT
DTSTART;TZID=Australia/Sydney:20250207T181500
DTEND;TZID=Australia/Sydney:20250207T181500
DTSTAMP:20260420T021203
CREATED:20250128T000842Z
LAST-MODIFIED:20250128T012113Z
UID:8234-1738952100-1738952100@wellingtonpointbowlingclub.com.au
SUMMARY:Fangio (PP)
DESCRIPTION:
URL:https://wellingtonpointbowlingclub.com.au/event/fangio-pp/2025-02-07/
CATEGORIES:what's on
END:VEVENT
BEGIN:VEVENT
DTSTART;TZID=Australia/Sydney:20250208T120000
DTEND;TZID=Australia/Sydney:20250208T170000
DTSTAMP:20260420T021203
CREATED:20250127T235649Z
LAST-MODIFIED:20250127T235717Z
UID:8225-1739016000-1739034000@wellingtonpointbowlingclub.com.au
SUMMARY:Bowls (Pen Trial)
DESCRIPTION:
URL:https://wellingtonpointbowlingclub.com.au/event/bowls-pen-trial/2025-02-08/
CATEGORIES:what's on
END:VEVENT
BEGIN:VEVENT
DTSTART;TZID=Australia/Sydney:20250209T083000
DTEND;TZID=Australia/Sydney:20250209T203000
DTSTAMP:20260420T021203
CREATED:20250127T234412Z
LAST-MODIFIED:20250127T234430Z
UID:8214-1739089800-1739133000@wellingtonpointbowlingclub.com.au
SUMMARY:Bowls (C/Ship)
DESCRIPTION:
URL:https://wellingtonpointbowlingclub.com.au/event/bowls-c-ship-3/
CATEGORIES:what's on
END:VEVENT
END:VCALENDAR