BEGIN:VCALENDAR
VERSION:2.0
PRODID:-//Wellington Point Bowls Club - ECPv6.15.0//NONSGML v1.0//EN
CALSCALE:GREGORIAN
METHOD:PUBLISH
X-ORIGINAL-URL:https://wellingtonpointbowlingclub.com.au
X-WR-CALDESC:Events for Wellington Point Bowls Club
REFRESH-INTERVAL;VALUE=DURATION:PT1H
X-Robots-Tag:noindex
X-PUBLISHED-TTL:PT1H
BEGIN:VTIMEZONE
TZID:Australia/Sydney
BEGIN:STANDARD
TZOFFSETFROM:+1100
TZOFFSETTO:+1000
TZNAME:AEST
DTSTART:20260404T160000
END:STANDARD
BEGIN:DAYLIGHT
TZOFFSETFROM:+1000
TZOFFSETTO:+1100
TZNAME:AEDT
DTSTART:20261003T160000
END:DAYLIGHT
END:VTIMEZONE
BEGIN:VEVENT
DTSTART;TZID=Australia/Sydney:20260129T080000
DTEND;TZID=Australia/Sydney:20260129T170000
DTSTAMP:20260423T011646
CREATED:20250129T093257Z
LAST-MODIFIED:20250129T115749Z
UID:8318-1769673600-1769706000@wellingtonpointbowlingclub.com.au
SUMMARY:Club Championships
DESCRIPTION:
URL:https://wellingtonpointbowlingclub.com.au/event/ladies-club-championships/
CATEGORIES:Ladies Bowls
END:VEVENT
BEGIN:VEVENT
DTSTART;TZID=Australia/Sydney:20260129T080000
DTEND;TZID=Australia/Sydney:20260129T170000
DTSTAMP:20260423T011646
CREATED:20250129T105807Z
LAST-MODIFIED:20250129T115816Z
UID:8323-1769673600-1769706000@wellingtonpointbowlingclub.com.au
SUMMARY:Club Championships
DESCRIPTION:
URL:https://wellingtonpointbowlingclub.com.au/event/mens-club-championships/
CATEGORIES:Men’s Bowls
END:VEVENT
BEGIN:VEVENT
DTSTART;TZID=Australia/Sydney:20260129T080000
DTEND;TZID=Australia/Sydney:20260129T170000
DTSTAMP:20260423T011646
CREATED:20250129T110435Z
LAST-MODIFIED:20250129T115836Z
UID:8328-1769673600-1769706000@wellingtonpointbowlingclub.com.au
SUMMARY:Club Championships
DESCRIPTION:
URL:https://wellingtonpointbowlingclub.com.au/event/mixed-club-championships/
CATEGORIES:Mixed Bowls
END:VEVENT
END:VCALENDAR